BEGIN:VCALENDAR
VERSION:2.0
PRODID:-//eventon.com NONSGML v1.0//EN
CALSCALE:GREGORIAN
METHOD:PUBLISH
BEGIN:VEVENT
UID:69eb5ebca9f26
DTSTAMP:20260424T121452Z
DTSTART:20200222
DTEND:20200223
LOCATION:Fuenterrebollo Fuenterrebollo
SUMMARY:Carnaval 2020 en Fuenterrebollo
DESCRIPTION:Carnaval 2020 en Fuenterrebollo Del 22 al 24 de Febrero de 2020
  se celebra el Carnaval en Fuenterrebollo\,  que se viste de color para dis
 frutar de un carnaval repleto de historia y eventos para todos los público
 s. La tradicional Fiesta de la Vaquilla\,  el Desfile y el Baile de Disfrac
 es\, [..]\nhttps://www.eventosdesegovia.com/events/carnaval-2020-en-fuenter
 rebollo/
URL:https://www.eventosdesegovia.com/events/carnaval-2020-en-fuenterrebollo/
END:VEVENT
END:VCALENDAR