BEGIN:VCALENDAR
VERSION:2.0
PRODID:-//eventon.com NONSGML v1.0//EN
CALSCALE:GREGORIAN
METHOD:PUBLISH
BEGIN:VEVENT
UID:69e8b10520a57
DTSTAMP:20260422T112909Z
DTSTART:20200221T180000Z
DTEND:20200221T190000Z
LOCATION:Librería Ícaro Calle Marqués del Arco 36
SUMMARY:“Realidad vs Ficción” en Librería Ícaro de Segovia
DESCRIPTION:“Realidad vs Ficción” en Librería Ícaro de Segovia. Davi
 d López Canales y Aitor Marín dialogarán sobre la creación literaria\, 
  la investigación periodística y el humor. Moderan: Rafael de Rojas (peri
 odista) y J.A.G. Municio (sus labores culturales). David López Canales (Ma
 drid\,  1980) es periodista. Tras haber pasado por diversas redacciones de[
 ..]\nhttps://www.eventosdesegovia.com/events/realidad-vs-ficcion-en-libreri
 a-icaro-de-segovia/
URL:https://www.eventosdesegovia.com/events/realidad-vs-ficcion-en-libreria-icaro-de-segovia/
END:VEVENT
END:VCALENDAR