BEGIN:VCALENDAR
VERSION:2.0
PRODID:-//eventon.com NONSGML v1.0//EN
CALSCALE:GREGORIAN
METHOD:PUBLISH
BEGIN:VEVENT
UID:69e4ea9486534
DTSTAMP:20260419T144540Z
DTSTART:20220101
DTEND:20220102
LOCATION:Centro Social Corpus Calle Juan Bravo\,  2
SUMMARY:Actividades en el Centro social Corpus 2022
DESCRIPTION:Actividades en el Centro social Corpus 2022 El Centro social Co
 rpus-Fundación Caja Segovia pone en marcha nuevas actividades a partir de 
 enero de 2022. Exposiciones: «Nuestro tiempo» – Colectivo de Pintores
  Asc Antiguos Empleados Caja Segovia: del 11 al 30 de enero de 2022 «Los
  Colores de Cecilia»- Raúl Fonseca: 2 al 25 de febrero de 2022[..]\nht
 tps://www.eventosdesegovia.com/events/actividades-en-el-centro-social-corpu
 s-2022/
URL:https://www.eventosdesegovia.com/events/actividades-en-el-centro-social-corpus-2022/
END:VEVENT
END:VCALENDAR