BEGIN:VCALENDAR
VERSION:2.0
PRODID:-//eventon.com NONSGML v1.0//EN
CALSCALE:GREGORIAN
METHOD:PUBLISH
BEGIN:VEVENT
UID:69e78a46b8457
DTSTAMP:20260421T143134Z
DTSTART:20210101
DTEND:20210102
LOCATION:Segovia Segovia
SUMMARY:Segovia Educa en Verde 2022 Enero\,  febrero y marzo
DESCRIPTION:Segovia Educa en Verde 2022 Enero\,  febrero y marzo &#8216;Seg
 ovia Educa en Verde&#8217;\,  programa de la concejalía de Medio Ambiente 
 del Ayuntamiento de Segovia\,  inicia 2022 con una completa programación q
 ue incluye talleres\,  rutas y paseos guiados. Son 57 actividades diferente
 s de educación ambiental que se desarrollarán durante enero\,  febrero[..
 ]\nhttps://www.eventosdesegovia.com/events/segovia-educa-en-verde-2022-ener
 o-febrero-y-marzo/
URL:https://www.eventosdesegovia.com/events/segovia-educa-en-verde-2022-enero-febrero-y-marzo/
END:VEVENT
END:VCALENDAR