BEGIN:VCALENDAR
VERSION:2.0
PRODID:-//eventon.com NONSGML v1.0//EN
CALSCALE:GREGORIAN
METHOD:PUBLISH
BEGIN:VEVENT
UID:69e7933c58330
DTSTAMP:20260421T150948Z
DTSTART:20200222T160000Z
DTEND:20200222T220000Z
LOCATION:Santiuste de San Juan Bautista Santiuste de San Juan Bautista
SUMMARY:Carnaval 2020 en Santiuste de San Juan Bautista
DESCRIPTION:Carnaval 2020 en Santiuste de San Juan Bautista El 22 de Febrer
 o de 2020\,  Carnaval 2020 en Santiuste de San Juan Bautista\,  con Concurs
 o de Disfraces con premios individuales y a Grupos.\nhttps://www.eventosdes
 egovia.com/events/carnaval-2020-en-santiuste-de-san-juan-bautista/
URL:https://www.eventosdesegovia.com/events/carnaval-2020-en-santiuste-de-san-juan-bautista/
END:VEVENT
END:VCALENDAR