BEGIN:VCALENDAR
VERSION:2.0
PRODID:-//eventon.com NONSGML v1.0//EN
CALSCALE:GREGORIAN
METHOD:PUBLISH
BEGIN:VEVENT
UID:69e7791c485bd
DTSTAMP:20260421T131820Z
DTSTART:20220117
DTEND:20220118
LOCATION:Segovia Segovia
SUMMARY:DONACIÓN de SANGRE en Segovia y Provincia
DESCRIPTION:DONACIÓN de SANGRE en Segovia y Provincia\,  para las semanas 
 del 17 al 30 de Enero de 2022 En SEGOVIA CAPITAL se puede DONAR SANGRE\
 ,  en el PUNTO  FIJO instalado en el HOSPITAL GENERAL de SEGOVIA\,  
 en la sala 28\,  JUNTO a la SALA de EXTRACCIONES del EDIFICIO de CONSULTA
 S EXTERNASCon los SIGUIENTES HORARIOS: LUNES&nbsp; 17 de ENERO de 2022&nbsp
 ;&nbsp;de 08:00 a[..]\nhttps://www.eventosdesegovia.com/events/donacion-de-
 sangre-en-segovia-y-provincia-3/
URL:https://www.eventosdesegovia.com/events/donacion-de-sangre-en-segovia-y-provincia-3/
END:VEVENT
END:VCALENDAR