BEGIN:VCALENDAR
VERSION:2.0
PRODID:-//eventon.com NONSGML v1.0//EN
CALSCALE:GREGORIAN
METHOD:PUBLISH
BEGIN:VEVENT
UID:69e8b2585829b
DTSTAMP:20260422T113448Z
DTSTART:20200224T080000Z
DTEND:20200224T130000Z
LOCATION:Fronton Segovia Fronton Segovia
SUMMARY:Carnaval Patinando con Segovia Patina
DESCRIPTION:Carnaval Patinando con Segovia Patina Los días 24 y 26 de Febr
 ero de 2020\,  Días sin Cole\,  Carnaval Patinando\,  para niños a partir
  de 4 años. En el Frontón de Segovia de 9:00 a 14:00 Inscripciones y mas 
 información en www.segoviapatina.es &nbsp;\nhttps://www.eventosdesegovia.c
 om/events/carnaval-patinando-con-segovia-patina/
URL:https://www.eventosdesegovia.com/events/carnaval-patinando-con-segovia-patina/
END:VEVENT
END:VCALENDAR