BEGIN:VCALENDAR
VERSION:2.0
PRODID:-//eventon.com NONSGML v1.0//EN
CALSCALE:GREGORIAN
METHOD:PUBLISH
BEGIN:VEVENT
UID:69e774ceedd7b
DTSTAMP:20260421T125958Z
DTSTART:20200226T170000Z
DTEND:20200226T220000Z
LOCATION:Grajera Grajera
SUMMARY:Carnaval 2020 en Grajera
DESCRIPTION:Carnaval 2020 en Grajera El 26 de Febrero de 2020\,  en Grajera
 \,  Entierro de la Sardina\,  con Bailes\,  Risaas\,  Chocolate y mucho mas
 . A las 18:00 en el Ayuntamiento.\nhttps://www.eventosdesegovia.com/events/
 carnaval-2020-en-grajera/
URL:https://www.eventosdesegovia.com/events/carnaval-2020-en-grajera/
END:VEVENT
END:VCALENDAR