BEGIN:VCALENDAR
VERSION:2.0
PRODID:-//eventon.com NONSGML v1.0//EN
CALSCALE:GREGORIAN
METHOD:PUBLISH
BEGIN:VEVENT
UID:69e7760872a0e
DTSTAMP:20260421T130512Z
DTSTART:20220317
DTEND:20220318
LOCATION:Plaza de San Lorenzo Plaza de San Lorenzo\,  Segovia
SUMMARY:San Lorenzo se mueve por Ucrania
DESCRIPTION:San Lorenzo se mueve por Ucrania\,  la asociación de vecinos d
 e este popular barrio segoviano\,  con la colaboración del Ayuntamiento 
 de la ciudad\,  inicia desde mañana y hasta el sábado una recogida de pro
 ductos específicos. Los promotores remarcan que no es necesario llevar man
 tas ni ropa porque esta petición ha quedado cubierta con[..]\nhttps://www
 .eventosdesegovia.com/events/san-lorenzo-se-mueve-por-ucrania/
URL:https://www.eventosdesegovia.com/events/san-lorenzo-se-mueve-por-ucrania/
END:VEVENT
END:VCALENDAR