BEGIN:VCALENDAR
VERSION:2.0
PRODID:-//eventon.com NONSGML v1.0//EN
CALSCALE:GREGORIAN
METHOD:PUBLISH
BEGIN:VEVENT
UID:69e73b24d975e
DTSTAMP:20260421T085356Z
DTSTART:20200224T163000Z
DTEND:20200226T220000Z
LOCATION:Palazuelos de Eresma Palazuelos de Eresma
SUMMARY:Carnaval 2020 en Palazuelos de Eresma
DESCRIPTION:Carnaval 2020 en Palazuelos de Eresma\,  del 24 de febrero al 2
 5 de febrero. Lunes 24 de Febrero 17:30 PASACALLES CARNAVAL. Plaza del Ayun
 tamiento Concurso «Comparsas»: Todas las Edades de 0 a 99 años. Disfráz
 ate en Grupo\,  se Original\,  Cúrratelo&#8230; que hay PREMIOS muy jugoso
 s!!! Apuntarse antes del Martes 18/2[..]\nhttps://www.eventosdesegovia.com/
 events/carnaval-2020-en-palazuelos-de-eresma/
URL:https://www.eventosdesegovia.com/events/carnaval-2020-en-palazuelos-de-eresma/
END:VEVENT
END:VCALENDAR