BEGIN:VCALENDAR
VERSION:2.0
PRODID:-//eventon.com NONSGML v1.0//EN
CALSCALE:GREGORIAN
METHOD:PUBLISH
BEGIN:VEVENT
UID:69e89c0f7e132
DTSTAMP:20260422T095943Z
DTSTART:20200224T170000Z
DTEND:20200225T190000Z
LOCATION:Villacastín Villacastín
SUMMARY:Carnaval 2020 en Villacastín
DESCRIPTION:Carnaval 2020 en Villacastín\,  del 24 de febrero al 25 de feb
 rero. LUNES 24 Fiesta Hinchables\,  de 18:00h a 20:00h. Lugar «LA PANERA&#
 8217;. Patrocinado por Excmo. Ayuntamiento de Villacastín. Entrada gratuit
 a. MARTES 25 Fiesta de Disfraces\,  de 11.30 a 20.00h. Lugar: «LA PANERA»
 . Os esperamos a todos disfrazados con vuestros[..]\nhttps://www.eventosdes
 egovia.com/events/carnaval-2020-en-villacastin/
URL:https://www.eventosdesegovia.com/events/carnaval-2020-en-villacastin/
END:VEVENT
END:VCALENDAR