BEGIN:VCALENDAR
VERSION:2.0
PRODID:-//eventon.com NONSGML v1.0//EN
CALSCALE:GREGORIAN
METHOD:PUBLISH
BEGIN:VEVENT
UID:69e776b2d1111
DTSTAMP:20260421T130802Z
DTSTART:20220227
DTEND:20220228
LOCATION:Coca Coca
SUMMARY:Programación cultural Coca 2022
DESCRIPTION:Programación cultural Coca 2022 Jornada sobre ahorro de agua y
  consumo de energía en el cultivo de remolacha\,  organizado por IRCONSA\,
   13 de mayo a las 12:45 h. en el Teatro Martín Frías de Coca (Segovia). 
 El Ayuntamiento de Coca ha anunciado a través de su página web y de[..]\n
 https://www.eventosdesegovia.com/events/programacion-cultural-coca-2022/
URL:https://www.eventosdesegovia.com/events/programacion-cultural-coca-2022/
END:VEVENT
END:VCALENDAR