BEGIN:VCALENDAR
VERSION:2.0
PRODID:-//eventon.com NONSGML v1.0//EN
CALSCALE:GREGORIAN
METHOD:PUBLISH
BEGIN:VEVENT
UID:69e73cf0302af
DTSTAMP:20260421T090136Z
DTSTART:20200308T103000Z
DTEND:20200308T130000Z
LOCATION:Estatua del diablillo Cuestas de San Juan
SUMMARY:Visitas Guiadas - Mujeres en la Historia de Segovia
DESCRIPTION:Mujeres en la Historia de Segovia Visitas Guiadas Domingo 8 mar
 zo &#8211; 11.30h Jueves 12\,  19 y 26 marzo &#8211; 18.00h ¿Sabes quién 
 fue la primera Princesa de Asturias?\,  ¿qué dama castellana guardaba las
  llaves de la ciudad? o ¿quién fue la primera mujer en convertirse en Aca
 démica de San[..]\nhttps://www.eventosdesegovia.com/events/visitas-guiadas
 -mujeres-en-la-historia-de-segovia/
URL:https://www.eventosdesegovia.com/events/visitas-guiadas-mujeres-en-la-historia-de-segovia/
END:VEVENT
END:VCALENDAR