BEGIN:VCALENDAR
VERSION:2.0
PRODID:-//eventon.com NONSGML v1.0//EN
CALSCALE:GREGORIAN
METHOD:PUBLISH
BEGIN:VEVENT
UID:69e7bd9c79c3b
DTSTAMP:20260421T181036Z
DTSTART:20200228T180000Z
DTEND:20200228T200000Z
LOCATION:Biblioteca Pública de Segovia Calle los Procuradores de la Tierra\,  6
SUMMARY:Los cuentos de hadas - Ciclo "El cuento en la tradición europea" en la Biblioteca
DESCRIPTION:Los cuentos de hadas &#8211; Ciclo «El cuento en la tradición
  europea» en la Biblioteca Pública de Segovia. La Biblioteca celebrará e
 l día 28 de febrero la primera jornada de ‘El cuento en la tradición eu
 ropea’\,  un conjunto de charlas dedicadas al cuento como elemento esenci
 al en la literatura y[..]\nhttps://www.eventosdesegovia.com/events/los-cuen
 tos-de-hadas-ciclo-el-cuento-en-la-tradicion-europea-en-la-biblioteca/
URL:https://www.eventosdesegovia.com/events/los-cuentos-de-hadas-ciclo-el-cuento-en-la-tradicion-europea-en-la-biblioteca/
END:VEVENT
END:VCALENDAR