BEGIN:VCALENDAR
VERSION:2.0
PRODID:-//eventon.com NONSGML v1.0//EN
CALSCALE:GREGORIAN
METHOD:PUBLISH
BEGIN:VEVENT
UID:69e76648032d9
DTSTAMP:20260421T115800Z
DTSTART:20200223T000000Z
DTEND:20200412T230000Z
LOCATION:Segovia Segovia
SUMMARY:11 edición del Certamen Literario de Relato Corto de la Fundación Biblioteca de Ciencia y Artillería
DESCRIPTION:11 edición del Certamen Literario de Relato Corto de la Fundac
 ión Biblioteca de Ciencia y Artillería La Fundación Biblioteca de Cienci
 a y Artillería informa de que se ha abierto el plazo de presentación de t
 rabajos para la undécima edición de su Certamen Literario de Relato Corto
 \,  que finaliza el día[..]\nhttps://www.eventosdesegovia.com/events/11-ed
 icion-del-certamen-literario-de-relato-corto-de-la-fundacion-biblioteca-de-
 ciencia-y-artilleria/
URL:https://www.eventosdesegovia.com/events/11-edicion-del-certamen-literario-de-relato-corto-de-la-fundacion-biblioteca-de-ciencia-y-artilleria/
END:VEVENT
END:VCALENDAR