BEGIN:VCALENDAR
VERSION:2.0
PRODID:-//eventon.com NONSGML v1.0//EN
CALSCALE:GREGORIAN
METHOD:PUBLISH
BEGIN:VEVENT
UID:69e4e9e68a7fb
DTSTAMP:20260419T144246Z
DTSTART:20200229
DTEND:20200301
LOCATION:
SUMMARY:Fútbol - Jornada 23 Grupo A Regional Preferente de Aficionados
DESCRIPTION:Fútbol &#8211; Jornada 23 Grupo A Regional Preferente de Afici
 onados Los días 29 de Febrero de 2020 y el 1 de Marzo de 2020\,  se disput
 a la Jornada 23 Grupo A Regional Preferente de Aficionados\,  con los sigui
 entes partidos: SÁBADO 29 FEBRERO 16:30 &#8211; S.D. Tardelcuende 🆚 C.D
 . Cebrereña 16:30[..]\nhttps://www.eventosdesegovia.com/events/futbol-jorn
 ada-23-grupo-a-regional-preferente-de-aficionados/
URL:https://www.eventosdesegovia.com/events/futbol-jornada-23-grupo-a-regional-preferente-de-aficionados/
END:VEVENT
END:VCALENDAR