BEGIN:VCALENDAR
VERSION:2.0
PRODID:-//eventon.com NONSGML v1.0//EN
CALSCALE:GREGORIAN
METHOD:PUBLISH
BEGIN:VEVENT
UID:69e7a13770bae
DTSTAMP:20260421T160927Z
DTSTART:20200215T110000Z
DTEND:20200215T120000Z
LOCATION:Librería Ícaro Calle Marqués del Arco 36
SUMMARY:Cuentacuentos en Librería Ícaro
DESCRIPTION:Cuentacuentos en Librería Ícaro Cada tercer sábado del mes\,
   en la Librería Ícaro y gracias a las adaptaciones y al trabajo como con
 tador de cuentos de David Gregoris\,  conocido y experimentado contador seg
 oviano\,  podemos disfrutar de tres fabulas cortas. El acceso es libre y es
 tá dirigido a un público de[..]\nhttps://www.eventosdesegovia.com/events/
 cuentacuentos-en-libreria-icaro-2/
URL:https://www.eventosdesegovia.com/events/cuentacuentos-en-libreria-icaro-2/
END:VEVENT
END:VCALENDAR