BEGIN:VCALENDAR
VERSION:2.0
PRODID:-//eventon.com NONSGML v1.0//EN
CALSCALE:GREGORIAN
METHOD:PUBLISH
BEGIN:VEVENT
UID:69e74dffc4c92
DTSTAMP:20260421T101423Z
DTSTART:20220501T150000Z
DTEND:20220501T170000Z
LOCATION:Pabellón Guerrer@s Naver@s Av. del Balonmano Nava\,  9
SUMMARY:Viveros Herol BM Nava vs Bathco BM Torrelavega
DESCRIPTION:Viveros Herol BM Nava vs Bathco BM Torrelavega el 1 de Mayo de 
 2022 a las 17:00 en el Pabellon Naver@s Guerrer@s de Nava de la Asunción. 
 Partido correspondiente a la jornada 26 de la Liga Sacyr Asobal.\nhttps://w
 ww.eventosdesegovia.com/events/viveros-herol-bm-nava-vs-bathco-bm-torrelave
 ga/
URL:https://www.eventosdesegovia.com/events/viveros-herol-bm-nava-vs-bathco-bm-torrelavega/
END:VEVENT
END:VCALENDAR