BEGIN:VCALENDAR
VERSION:2.0
PRODID:-//eventon.com NONSGML v1.0//EN
CALSCALE:GREGORIAN
METHOD:PUBLISH
BEGIN:VEVENT
UID:69e73b4d36829
DTSTAMP:20260421T085437Z
DTSTART:20220520T180000Z
DTEND:20220520T200000Z
LOCATION:IES Andrés Laguna Paseo Conde de Sepúlveda\,  18\, 
SUMMARY:Bartolito en la Granja
DESCRIPTION:Bartolito en la Granja\,  el 20 de Mayo de 2022 en el Teatro de
 l IES Andrés Laguna de Segovia\,  a las 18:00.\nhttps://www.eventosdesegov
 ia.com/events/bartolito-en-la-granja/
URL:https://www.eventosdesegovia.com/events/bartolito-en-la-granja/
END:VEVENT
END:VCALENDAR