BEGIN:VCALENDAR
VERSION:2.0
PRODID:-//eventon.com NONSGML v1.0//EN
CALSCALE:GREGORIAN
METHOD:PUBLISH
BEGIN:VEVENT
UID:69e633c50b804
DTSTAMP:20260420T141013Z
DTSTART:20220627
DTEND:20220628
LOCATION:
SUMMARY:Campamento de verano 2022 - Codinse
DESCRIPTION:Campamento de verano 2022 &#8211; Codinse\,  del 27 de Junio al
  1 de Julio de 2022\,  CODINSE retoma el&nbsp;&nbsp;campamento de verano&nb
 sp;con muchas ganas y con alguna novedad\,  dando la oportunidad de partici
 par al alumnado de 1º y 2º de Secundaria . Este año\,  volvemos a la gra
 nja escuela&nbsp;La Chopera en[..]\nhttps://www.eventosdesegovia.com/events
 /campamento-de-verano-2022-codinse/
URL:https://www.eventosdesegovia.com/events/campamento-de-verano-2022-codinse/
END:VEVENT
END:VCALENDAR