BEGIN:VCALENDAR
VERSION:2.0
PRODID:-//eventon.com NONSGML v1.0//EN
CALSCALE:GREGORIAN
METHOD:PUBLISH
BEGIN:VEVENT
UID:69e7bdaadf159
DTSTAMP:20260421T181050Z
DTSTART:20200228T190000Z
DTEND:20200228T210000Z
LOCATION:Centro Cívico de San Lorenzo C/Anselmo Carretero S/N – Asociación de Vecinos
SUMMARY:‘ESCENA ABIERTA A LA SOLIDARIDAD’ EN CENTRO CÍVICO DE SAN LORENZO
DESCRIPTION:Escena abierta a la solidaridad. A favor de: Paladio Arte. Fech
 a: 28 de febrero (viernes)\,  a las 20\, 00h. Centro Cívico de San Lorenzo
  (C/Anselmo Carretero S/N – Asociación de Vecinos). Actuaciones de: Pala
 dio Arte (narración oral)\,  Mario (guitarra clásica)\,  Pedro Peirotén 
 (poesía)\,  Rosario Herrero (narración oral)\,  Marta Revuelta (música)\
 ,  Elia[..]\nhttps://www.eventosdesegovia.com/events/escena-abierta-a-la-so
 lidaridad-en-centro-civico-de-san-lorenzo-2/
URL:https://www.eventosdesegovia.com/events/escena-abierta-a-la-solidaridad-en-centro-civico-de-san-lorenzo-2/
END:VEVENT
END:VCALENDAR