BEGIN:VCALENDAR
VERSION:2.0
PRODID:-//eventon.com NONSGML v1.0//EN
CALSCALE:GREGORIAN
METHOD:PUBLISH
BEGIN:VEVENT
UID:69e887e9964d6
DTSTAMP:20260422T083345Z
DTSTART:20220521T183000Z
DTEND:20220522T200000Z
LOCATION:Teatro Paladio Camino la Piedad\,  8
SUMMARY:Auténticos en Paladio arte
DESCRIPTION:Auténticos en Paladio arte\,  por el 25 aniversario de Paladio
  Arte\,  el 21 de Mayo de 2022 a las 20:30\,  entrada libre hasta completar
  aforo.\nhttps://www.eventosdesegovia.com/events/autenticos-en-paladio-arte
 /
URL:https://www.eventosdesegovia.com/events/autenticos-en-paladio-arte/
END:VEVENT
END:VCALENDAR