BEGIN:VCALENDAR
VERSION:2.0
PRODID:-//eventon.com NONSGML v1.0//EN
CALSCALE:GREGORIAN
METHOD:PUBLISH
BEGIN:VEVENT
UID:69e7a5f555399
DTSTAMP:20260421T162941Z
DTSTART:20200228T184500Z
DTEND:20200228T200000Z
LOCATION:Valverde del Majano Valverde del Majano
SUMMARY:Exposición y conferencia sobre el papel de varias mujeres en la historia en Valverde del Majano
DESCRIPTION:Exposición y conferencia sobre el papel de varias mujeres en l
 a historia en Valverde del Majano El Ayuntamiento de Valverde se suma a las
  actividades en honor a las mujeres que se celebran estos días\,  y lo hac
 e con una exposición y una conferencia que ha organizado la concejala e[..
 ]\nhttps://www.eventosdesegovia.com/events/exposicion-y-conferencia-sobre-e
 l-papel-de-varias-mujeres-en-la-historia-en-valverde-del-majano/
URL:https://www.eventosdesegovia.com/events/exposicion-y-conferencia-sobre-el-papel-de-varias-mujeres-en-la-historia-en-valverde-del-majano/
END:VEVENT
END:VCALENDAR