BEGIN:VCALENDAR
VERSION:2.0
PRODID:-//eventon.com NONSGML v1.0//EN
CALSCALE:GREGORIAN
METHOD:PUBLISH
BEGIN:VEVENT
UID:69e88760e8d72
DTSTAMP:20260422T083128Z
DTSTART:20220627
DTEND:20220628
LOCATION:Real Sitio de San Ildefonso Real Sitio de San Ildefonso
SUMMARY:Campamentos de verano en el Real Sitio de San Ildefonso
DESCRIPTION:Campamentos de verano en el Real Sitio de San Ildefonso\,  desd
 e el 27 de Junio\,  hasta el 12 de Agosto de 2022\,  por semanas\,  con hor
 ario de 9 a 14:00\,  destinados a niÃ±os de infantil y primaria. Se llevarÃ
 ¡n a cabo en el PabellÃ³n Municipal San Luis de La Granja.[..]\nhttps://www
 .eventosdesegovia.com/events/campamentos-de-verano-en-el-real-sitio-de-san-
 ildefonso/
URL:https://www.eventosdesegovia.com/events/campamentos-de-verano-en-el-real-sitio-de-san-ildefonso/
END:VEVENT
END:VCALENDAR