BEGIN:VCALENDAR
VERSION:2.0
PRODID:-//eventon.com NONSGML v1.0//EN
CALSCALE:GREGORIAN
METHOD:PUBLISH
BEGIN:VEVENT
UID:69e895403b525
DTSTAMP:20260422T093040Z
DTSTART:20220704
DTEND:20220705
LOCATION:Bernardos Bernardos
SUMMARY:Campamento de Verano 2022 en Bernardos
DESCRIPTION:Campamento de Verano 2022 en Bernardos\,  semanas desde el 4 de
  Julio\,  hasta el 12 de Agosto de 2022\,  para niños de 4 a 11 años\,  c
 on horario de 9 a 14:00. Actividades al Aire Libre. Importante: las inscri
 pciones están abiertas hasta el 15 de Junio. Toda la información en: http
 s://www.bernardos.es/\nhttps://www.eventosdesegovia.com/events/campamento-d
 e-verano-2022-en-bernardos/
URL:https://www.eventosdesegovia.com/events/campamento-de-verano-2022-en-bernardos/
END:VEVENT
END:VCALENDAR