BEGIN:VCALENDAR
VERSION:2.0
PRODID:-//eventon.com NONSGML v1.0//EN
CALSCALE:GREGORIAN
METHOD:PUBLISH
BEGIN:VEVENT
UID:69e4e8e44fe9b
DTSTAMP:20260419T143828Z
DTSTART:20220603T163000Z
DTEND:20220603T180000Z
LOCATION:El Espinar
SUMMARY:Audición de Órgano en El Espinar
DESCRIPTION:Audición de Órgano en El Espinar\,  el 3 de Junio de 2022 a l
 as 18:00 en la Iglesia de San Eutropio.\nhttps://www.eventosdesegovia.com/e
 vents/audicion-de-organo-en-el-espinar/
URL:https://www.eventosdesegovia.com/events/audicion-de-organo-en-el-espinar/
END:VEVENT
END:VCALENDAR