BEGIN:VCALENDAR
VERSION:2.0
PRODID:-//eventon.com NONSGML v1.0//EN
CALSCALE:GREGORIAN
METHOD:PUBLISH
BEGIN:VEVENT
UID:69e790041e505
DTSTAMP:20260421T145604Z
DTSTART:20200227T173000Z
DTEND:20200227T190000Z
LOCATION:Real Sitio de San Ildefonso Real Sitio de San Ildefonso
SUMMARY:Asamblea Abierta en el Real Sitio de San Ildefonso
DESCRIPTION:Asamblea Abierta en el Real Sitio de San Ildefonso Asamblea Abi
 erta para Organizar actividades previas a la jornada feminista del 8 de Mar
 zo en el Real Sitio de San Ildefonso\,  el Jueves 27 de Febrero a las 18:30
  en el  Ayuntamiento del Real Sitio de San Ildefonso\nhttps://www.eventosd
 esegovia.com/events/asamblea-abierta-en-el-real-sitio-de-san-ildefonso/
URL:https://www.eventosdesegovia.com/events/asamblea-abierta-en-el-real-sitio-de-san-ildefonso/
END:VEVENT
END:VCALENDAR