BEGIN:VCALENDAR
VERSION:2.0
PRODID:-//eventon.com NONSGML v1.0//EN
CALSCALE:GREGORIAN
METHOD:PUBLISH
BEGIN:VEVENT
UID:69e6337650de3
DTSTAMP:20260420T140854Z
DTSTART:20220704
DTEND:20220705
LOCATION:Boceguillas Boceguillas
SUMMARY:Campamentos de Verano 2022 en Boceguillas
DESCRIPTION:Campamentos de Verano 2022 en Boceguillas\,  del 4 de Julio\,  
 al 29 de Julio en dos turnos\,  de dos semanas cada turno\,  con horario de
  9:30 hasta las 14:00. Cursos de Natación desde el 1 de Agosto hasta el 12
  de Agosto con varios niveles.\nhttps://www.eventosdesegovia.com/events/cam
 pamentos-de-verano-2022-en-boceguillas/
URL:https://www.eventosdesegovia.com/events/campamentos-de-verano-2022-en-boceguillas/
END:VEVENT
END:VCALENDAR