BEGIN:VCALENDAR
VERSION:2.0
PRODID:-//eventon.com NONSGML v1.0//EN
CALSCALE:GREGORIAN
METHOD:PUBLISH
BEGIN:VEVENT
UID:69e89c0bb927d
DTSTAMP:20260422T095939Z
DTSTART:20220611T180000Z
DTEND:20220611T200000Z
LOCATION:San Cristóbal de Segovia San Cristóbal de Segovia
SUMMARY:Concierto Isabel Aaiún en San Cristobal de Segovia
DESCRIPTION:Concierto Isabel Aaiún en San Cristobal de Segovia\,  el 11 de
  Junio de 2022 a las 20:00 en el parque de Pradovalle\,  entrada gratuita. 
 Concierto Acústico.\nhttps://www.eventosdesegovia.com/events/concierto-isa
 bel-aaiun-en-san-cristobal-de-segovia/
URL:https://www.eventosdesegovia.com/events/concierto-isabel-aaiun-en-san-cristobal-de-segovia/
END:VEVENT
END:VCALENDAR