BEGIN:VCALENDAR
VERSION:2.0
PRODID:-//eventon.com NONSGML v1.0//EN
CALSCALE:GREGORIAN
METHOD:PUBLISH
BEGIN:VEVENT
UID:69e7766ac3487
DTSTAMP:20260421T130650Z
DTSTART:20220613T170000Z
DTEND:20220613T180000Z
LOCATION:Centro Social Corpus Calle Juan Bravo\,  2
SUMMARY:presentación "Dale Alas" de Marcelino de Andrés Núñez
DESCRIPTION:Presentación «Dale Alas» de Marcelino de Andrés Núñez\, 
  el 13 de Junio de 2022 a las 19:00 en el Centro Social Corpus. Dale alas.&
 nbsp;Más de 100 maneras de amar Lunes 13 de junio\,  a las 19:00h. Centro 
 social Corpus Entrada libre – aforo limitado Reserva tu plaza Centro soci
 al Corpus &#8211;[..]\nhttps://www.eventosdesegovia.com/events/presentacion
 -dale-alas-de-marcelino-de-andres-nunez/
URL:https://www.eventosdesegovia.com/events/presentacion-dale-alas-de-marcelino-de-andres-nunez/
END:VEVENT
END:VCALENDAR