BEGIN:VCALENDAR
VERSION:2.0
PRODID:-//eventon.com NONSGML v1.0//EN
CALSCALE:GREGORIAN
METHOD:PUBLISH
BEGIN:VEVENT
UID:69e4e61a5aa11
DTSTAMP:20260419T142634Z
DTSTART:20220610
DTEND:20220611
LOCATION:Boceguillas Boceguillas
SUMMARY:Fiestas en Boceguillas 2022
DESCRIPTION:Fiestas en Boceguillas 2022\,  del 10 al 13 de Julio de 2022\, 
  con DJ\,  Paseo en Bici\,  Almuerzo\,  Charanga\,  Orquestas\,  Paella Pop
 ular\,  Juegos infantiles\,  Juegos Tradicionales\,  bolos\,  chito&#8230;.
 \nhttps://www.eventosdesegovia.com/events/fiestas-en-boceguillas-2022/
URL:https://www.eventosdesegovia.com/events/fiestas-en-boceguillas-2022/
END:VEVENT
END:VCALENDAR