BEGIN:VCALENDAR
VERSION:2.0
PRODID:-//eventon.com NONSGML v1.0//EN
CALSCALE:GREGORIAN
METHOD:PUBLISH
BEGIN:VEVENT
UID:69e7bd9d9af9c
DTSTAMP:20260421T181037Z
DTSTART:20200228T200000Z
DTEND:20200228T220000Z
LOCATION:Sala San Nicolas Plaza de San Nicolás
SUMMARY:Pasos Perdidos - Viernes Abiertos en San Nicolás
DESCRIPTION:Pasos Perdidos &#8211; Viernes Abiertos en San Nicolás. Los Vi
 ernes Abiertos del Taller Municipal de Teatro cumplen más de un cuarto de 
 siglo ofreciéndonos lo mejor de la escena alternativa nacional. Este viern
 es 28 de Febrero de 2020\,  a las 21\, 00h\,  en la Iglesia de San Nicolás
  PRECIO: 3€.  Donativo[..]\nhttps://www.eventosdesegovia.com/events/paso
 s-perdidos-viernes-abiertos-en-san-nicolas/
URL:https://www.eventosdesegovia.com/events/pasos-perdidos-viernes-abiertos-en-san-nicolas/
END:VEVENT
END:VCALENDAR