BEGIN:VCALENDAR
VERSION:2.0
PRODID:-//eventon.com NONSGML v1.0//EN
CALSCALE:GREGORIAN
METHOD:PUBLISH
BEGIN:VEVENT
UID:69e78b79db2c4
DTSTAMP:20260421T143641Z
DTSTART:20200227T193000Z
DTEND:20200227T210000Z
LOCATION:ES Andrés Laguna Paseo Conde de Sepúlveda\,  18\, 
SUMMARY:Mariana Pineda en el IES Andrés Laguna
DESCRIPTION:Mariana Pineda en el IES Andrés Laguna. Ensayo general de la o
 bra de Federico García Lorca. Mariana Pineda es una obra de teatro del poe
 ta y dramaturgo español Federico García Lorca basado en la vida de Marian
 a de Pineda Muñoz\,  figura relevante de la resistencia a la restauración
  absolutista en[..]\nhttps://www.eventosdesegovia.com/events/mariana-pineda
 -en-el-ies-andres-laguna/
URL:https://www.eventosdesegovia.com/events/mariana-pineda-en-el-ies-andres-laguna/
END:VEVENT
END:VCALENDAR