BEGIN:VCALENDAR
VERSION:2.0
PRODID:-//eventon.com NONSGML v1.0//EN
CALSCALE:GREGORIAN
METHOD:PUBLISH
BEGIN:VEVENT
UID:69eb2bad306a6
DTSTAMP:20260424T083701Z
DTSTART:20200228
DTEND:20200229
LOCATION:Cines Luz de Castilla Centro Comercial Luz de Castilla\,  Calle de Guadarrama\,  s/n
SUMMARY:Cine Sala Fundación Caja Segovia: programación 28 febrero-3 marzo 2020
DESCRIPTION:Cine Sala Fundación Caja Segovia: programación 28 febrero-3 m
 arzo 2020 Programación del 28 de febrero al 3 de marzo de 2020 Especiales 
 del  28 de febrero al 3 de marzo Para mayores de 7 años 110 min &nbsp; Ho
 rarios Viernes 17:30\,  20:00 y 22:30 Sábado 17:30\,  20:00 y 22:30 Doming
 o[..]\nhttps://www.eventosdesegovia.com/events/cine-sala-fundacion-caja-seg
 ovia-programacion-28-febrero-3-marzo-2020/
URL:https://www.eventosdesegovia.com/events/cine-sala-fundacion-caja-segovia-programacion-28-febrero-3-marzo-2020/
END:VEVENT
END:VCALENDAR