BEGIN:VCALENDAR
VERSION:2.0
PRODID:-//eventon.com NONSGML v1.0//EN
CALSCALE:GREGORIAN
METHOD:PUBLISH
BEGIN:VEVENT
UID:69e7d4a33c853
DTSTAMP:20260421T194851Z
DTSTART:20200228T150000Z
DTEND:20200228T200000Z
LOCATION:Sepúlveda Sepúlveda
SUMMARY:Curso de Iniciación a la fotografía en Sepulveda
DESCRIPTION:Curso de Iniciación a la fotografía en Sepulveda El Sábado 2
 8 de Febrero de 2020 de 16:00 a 21:00 en la Casa del Parque de las Hoces de
 l Duratón!\nhttps://www.eventosdesegovia.com/events/curso-de-iniciacion-a-
 la-fotografia-en-sepulveda/
URL:https://www.eventosdesegovia.com/events/curso-de-iniciacion-a-la-fotografia-en-sepulveda/
END:VEVENT
END:VCALENDAR