BEGIN:VCALENDAR
VERSION:2.0
PRODID:-//eventon.com NONSGML v1.0//EN
CALSCALE:GREGORIAN
METHOD:PUBLISH
BEGIN:VEVENT
UID:69e8a06fc086d
DTSTAMP:20260422T101823Z
DTSTART:20220718
DTEND:20220719
LOCATION:Fuenterrebollo Fuenterrebollo
SUMMARY:Campamento de Verano en Fuenterrebollo
DESCRIPTION:Campamento de Verano en Fuenterrebollo\,  del 18 de Julio al 13
  de Agosto de 2022 por semanas. Los interesados deberán rellenar y present
 ar la hoja de inscripción en el ayuntamiento los días y en horario de sec
 retaria o por correo electrónico (info@fuenterrebollo.es) junto con el jus
 tificante de pago que deberá[..]\nhttps://www.eventosdesegovia.com/events/
 campamento-de-verano-en-fuenterrebollo/
URL:https://www.eventosdesegovia.com/events/campamento-de-verano-en-fuenterrebollo/
END:VEVENT
END:VCALENDAR