BEGIN:VCALENDAR
VERSION:2.0
PRODID:-//eventon.com NONSGML v1.0//EN
CALSCALE:GREGORIAN
METHOD:PUBLISH
BEGIN:VEVENT
UID:69e7bdacbc4f6
DTSTAMP:20260421T181052Z
DTSTART:20200228
DTEND:20200229
LOCATION:Teatro Juan Bravo Plaza Mayor\,  9
SUMMARY:El grupo segoviano de rock\,  Ácido\,  presenta su cuarto disco sobre el escenario del Teatro Juan Bravo
DESCRIPTION:El grupo segoviano de rock\,  Ácido\,  presenta su cuarto disc
 o sobre el escenario del Teatro Juan Bravo este 28 de Febrero de 2020 El Te
 atro Juan Bravo de la Diputación volverá a ser mañana viernes\,  28 de f
 ebrero\,  marco potencial de la cultura segoviana\,  sirviendo como escenar
 io para la puesta[..]\nhttps://www.eventosdesegovia.com/events/el-grupo-seg
 oviano-de-rock-acido-presenta-su-cuarto-disco-sobre-el-escenario-del-teatro
 -juan-bravo/
URL:https://www.eventosdesegovia.com/events/el-grupo-segoviano-de-rock-acido-presenta-su-cuarto-disco-sobre-el-escenario-del-teatro-juan-bravo/
END:VEVENT
END:VCALENDAR