BEGIN:VCALENDAR
VERSION:2.0
PRODID:-//eventon.com NONSGML v1.0//EN
CALSCALE:GREGORIAN
METHOD:PUBLISH
BEGIN:VEVENT
UID:69e78e898c283
DTSTAMP:20260421T144945Z
DTSTART:20220708
DTEND:20220709
LOCATION:Zarzuela del Pinar Zarzuela del Pinar
SUMMARY:Fiestas de San Cristóbal 2022 en Zarzuela del Pinar
DESCRIPTION:Fiestas de San Cristóbal 2022 en Zarzuela del Pinar\,  los dí
 as 8\,  9 y 10 de Julio de 2022\,  \, con exhibición de Jotas\,  Cena\,  V
 erbenas\,  Fiesta de la Espuma\,  Atracciones Infantiles\,  Bendición de V
 ehículos\,  Misas\,  Vermú\,  Paellada\,  Tiro al Plato\,  Campeonato de 
 Chito\,  Juegos gigantes de madera\,  y mucho más!!!\nhttps://www.eventosd
 esegovia.com/events/fiestas-de-san-cristobal-2022-en-zarzuela-del-pinar/
URL:https://www.eventosdesegovia.com/events/fiestas-de-san-cristobal-2022-en-zarzuela-del-pinar/
END:VEVENT
END:VCALENDAR