BEGIN:VCALENDAR
VERSION:2.0
PRODID:-//eventon.com NONSGML v1.0//EN
CALSCALE:GREGORIAN
METHOD:PUBLISH
BEGIN:VEVENT
UID:69eb3f6998a3e
DTSTAMP:20260424T100113Z
DTSTART:20200303T173000Z
DTEND:20200303T200000Z
LOCATION:La Cárcel_Centro de Creación Av. Juan Carlos I
SUMMARY:Andy Stalman\,  conferencia: BrandOffOn. El Branding del Futuro.
DESCRIPTION:Andy Stalman\,  conferencia: BrandOffOn. El Branding del Futuro
 . El próximo martes día 3 de marzo a las 18:30h en la Sala Julio Michel 
 – La Cárcel\,  arranca el X CONGRESO EMFI de la Fundación Caja Rural\, 
  un evento empresarial que espera la participaron de más de 1700 personas 
 en seis jornadas[..]\nhttps://www.eventosdesegovia.com/events/andy-stalman-
 conferencia-brandoffon-el-branding-del-futuro/
URL:https://www.eventosdesegovia.com/events/andy-stalman-conferencia-brandoffon-el-branding-del-futuro/
END:VEVENT
END:VCALENDAR