BEGIN:VCALENDAR
VERSION:2.0
PRODID:-//eventon.com NONSGML v1.0//EN
CALSCALE:GREGORIAN
METHOD:PUBLISH
BEGIN:VEVENT
UID:69e775cac79e2
DTSTAMP:20260421T130410Z
DTSTART:20220717T183000Z
DTEND:20220717T200000Z
LOCATION:Torrecaballeros Torrecaballeros
SUMMARY:Músicas en la Frontera con Noelia Gómez & Puerto Gonzalez en Torrecaballeros
DESCRIPTION:Músicas en la Frontera con Noelia Gómez &amp; Puerto Gonzalez
  en Torrecaballeros\,  el 17 de Julio de 2022 a las 20:30 en el Centro Cult
 ural de Torrecaballeros.\nhttps://www.eventosdesegovia.com/events/musicas-e
 n-la-frontera-con-noelia-gomez-puerto-gonzalez-en-torrecaballeros/
URL:https://www.eventosdesegovia.com/events/musicas-en-la-frontera-con-noelia-gomez-puerto-gonzalez-en-torrecaballeros/
END:VEVENT
END:VCALENDAR