BEGIN:VCALENDAR
VERSION:2.0
PRODID:-//eventon.com NONSGML v1.0//EN
CALSCALE:GREGORIAN
METHOD:PUBLISH
BEGIN:VEVENT
UID:69e75d421d057
DTSTAMP:20260421T111930Z
DTSTART:20200229T200000Z
DTEND:20200229T230000Z
LOCATION:El Cochifrito  Av. Acueducto\,  4\, 
SUMMARY:Concierto de Mandala en El Cochifrito
DESCRIPTION:Mandala en El Cochifrito. Después\,  la mejor música con Mont
 ero DJ. Os esperamos para pasar una tarde con la mejor música en directo a
  cargo de “MANDALA” y después continúa la mejor música a cargo de 
 MONTERO DJ” 🎉😉 Los Sábados cada vez son mas Flamencos en EL COCH
 IFRITO 💃💃 Lugar: Bar[..]\nhttps://www.eventosdesegovia.com/events/ma
 ndala-en-el-cochifrito/
URL:https://www.eventosdesegovia.com/events/mandala-en-el-cochifrito/
END:VEVENT
END:VCALENDAR