BEGIN:VCALENDAR
VERSION:2.0
PRODID:-//eventon.com NONSGML v1.0//EN
CALSCALE:GREGORIAN
METHOD:PUBLISH
BEGIN:VEVENT
UID:69e73d154de3e
DTSTAMP:20260421T090213Z
DTSTART:20220724T080000Z
DTEND:20220724T120000Z
LOCATION:Carbonero el Mayor Carbonero el Mayor
SUMMARY:XIII Torneo de Ajedrez en Carbonero el Mayor
DESCRIPTION:XIII Torneo de Ajedrez en Carbonero el Mayor\,  el 24 de Julio 
 de 2022\,  dentro del trofeo provincial de Ajedrez de Segovia 2022\,  desde
  las 10:00 hasta las 14:00\,  inscripciones el mismo día de 9:30 a 9:45 en
  el Ayuntamiento.\nhttps://www.eventosdesegovia.com/events/xiii-torneo-de-a
 jedrez-en-carbonero-el-mayor/
URL:https://www.eventosdesegovia.com/events/xiii-torneo-de-ajedrez-en-carbonero-el-mayor/
END:VEVENT
END:VCALENDAR