BEGIN:VCALENDAR
VERSION:2.0
PRODID:-//eventon.com NONSGML v1.0//EN
CALSCALE:GREGORIAN
METHOD:PUBLISH
BEGIN:VEVENT
UID:69e7aeaabe0dc
DTSTAMP:20260421T170650Z
DTSTART:20200301
DTEND:20200302
LOCATION:Teteria Damasco Calle de San Antón\,  3\,  40005 Segovia
SUMMARY:Exposición Fotográfica - Caricias Al Alma
DESCRIPTION:Exposición Fotográfica &#8211; Caricias Al Alma Desde el 1 de
  Marzo al 30 de Abril de 2020\,   Exposición Fotográfica &#8211; Caricia
 s Al Alma de Laura Muñoz\,  en la Teteria Damasco. ¿Cuántas veces hemos 
 escuchado la melodía de una canción que nos lleva a otro momento o situac
 ión? \,  ¿Cuántas\,  nos[..]\nhttps://www.eventosdesegovia.com/events/ex
 posicion-fotografica-caricias-al-alma/
URL:https://www.eventosdesegovia.com/events/exposicion-fotografica-caricias-al-alma/
END:VEVENT
END:VCALENDAR