BEGIN:VCALENDAR
VERSION:2.0
PRODID:-//eventon.com NONSGML v1.0//EN
CALSCALE:GREGORIAN
METHOD:PUBLISH
BEGIN:VEVENT
UID:69e73d901f15c
DTSTAMP:20260421T090416Z
DTSTART:20200404
DTEND:20200405
LOCATION:Fuentepelayo Fuentepelayo
SUMMARY:XIV Carrera Popular "Subida a San Cebrian"
DESCRIPTION:XIV Carrera Popular «Subida a San Cebrian» El 4 de Abril de 2
 020 a las 18:30\,  en la localidad Segoviana de Fuentepelayo\,  se celebra 
 la XIV Carrera Popular «Subida a San Cebrian» ORGANIZA: Asociación “Vi
 ernes de 8 a 9” y Ayuntamiento de Fuentepelayo. DISTANCIA: 11 Km. Entre e
 l circuito urbano[..]\nhttps://www.eventosdesegovia.com/events/xiv-carrera-
 popular-subida-a-san-cebrian/
URL:https://www.eventosdesegovia.com/events/xiv-carrera-popular-subida-a-san-cebrian/
END:VEVENT
END:VCALENDAR