BEGIN:VCALENDAR
VERSION:2.0
PRODID:-//eventon.com NONSGML v1.0//EN
CALSCALE:GREGORIAN
METHOD:PUBLISH
BEGIN:VEVENT
UID:69e73b3dd5923
DTSTAMP:20260421T085421Z
DTSTART:20221016
DTEND:20221017
LOCATION:Segovia Segovia
SUMMARY:Inscripción en la Escolanía de Segovia 2022/23
DESCRIPTION:Inscripción en la Escolanía de Segovia 2022/23 La Fundación 
 Don Juan de Borbón abre hoy el plazo de inscripción a niños y jóvenes d
 e 8 a 16 años para formar parte de la Escolanía de Segovia durante el cur
 so 2022/23. El plazo permanecerá abierto hasta el 16 de octubre. Además\,
  [..]\nhttps://www.eventosdesegovia.com/events/inscripcion-en-la-escolania-
 de-segovia-2022-23/
URL:https://www.eventosdesegovia.com/events/inscripcion-en-la-escolania-de-segovia-2022-23/
END:VEVENT
END:VCALENDAR