BEGIN:VCALENDAR
VERSION:2.0
PRODID:-//eventon.com NONSGML v1.0//EN
CALSCALE:GREGORIAN
METHOD:PUBLISH
BEGIN:VEVENT
UID:69e8f8e955dc1
DTSTAMP:20260422T163553Z
DTSTART:20220930T213000Z
DTEND:20221001T010000Z
LOCATION:El Guijar de Valdevacas  El Guijar de Valdevacas
SUMMARY:Esto es una noche de Rock And Roll en El Guijar de Valdevacas
DESCRIPTION:Esto es una noche de Rock And Roll en El Guijar de Valdevacas\,
   el 30 de Septiembre de 2022\,  desde las 23:30\,  con el grupo Alarmados\
 ,  y desde las 1:30 con No Konforme. En la Plaza del Pueblo\,  con entrada 
 Libre.\nhttps://www.eventosdesegovia.com/events/esto-es-una-noche-de-rock-a
 nd-roll-en-el-guijar-de-valdevacas/
URL:https://www.eventosdesegovia.com/events/esto-es-una-noche-de-rock-and-roll-en-el-guijar-de-valdevacas/
END:VEVENT
END:VCALENDAR