BEGIN:VCALENDAR
VERSION:2.0
PRODID:-//eventon.com NONSGML v1.0//EN
CALSCALE:GREGORIAN
METHOD:PUBLISH
BEGIN:VEVENT
UID:69e89c0f3839a
DTSTAMP:20260422T095943Z
DTSTART:20221008T170000Z
DTEND:20221008T180000Z
LOCATION:Teatro Juan Bravo Plaza Mayor\,  9
SUMMARY:Dúo Garrapete en el Teatro Juan Bravo
DESCRIPTION:El dúo Garrapete propone a las familias una tarde en el Teatro
  Juan Bravo con ‘Crescendo’\,  el Teatro Juan Bravo de la Diputación e
 s un espacio en el que cabe público de todas las edades y gustos y una vez
  más volverá a demostrarlo mañana sábado\,  8 de octubre\,  a[..]\nhttp
 s://www.eventosdesegovia.com/events/duo-garrapete-en-el-teatro-juan-bravo/
URL:https://www.eventosdesegovia.com/events/duo-garrapete-en-el-teatro-juan-bravo/
END:VEVENT
END:VCALENDAR