BEGIN:VCALENDAR
VERSION:2.0
PRODID:-//eventon.com NONSGML v1.0//EN
CALSCALE:GREGORIAN
METHOD:PUBLISH
BEGIN:VEVENT
UID:69e890d53d16d
DTSTAMP:20260422T091149Z
DTSTART:20200319
DTEND:20200320
LOCATION:La Cárcel_Centro de Creación Av. Juan Carlos I
SUMMARY:X Encuentro "Mujeres que transforman el mundo"
DESCRIPTION:X Encuentro «Mujeres que transforman el mundo». LaCárcel de 
 Segovia será el escenario del X Encuentro «Mujeres que transforman el mun
 do»\,  entre el 19 y el 29 de marzo. Ya podéis consultar el programa y co
 mprar las entradas en la web del encuentro. El X Encuentro «Mujeres que tr
 ansforman el[..]\nhttps://www.eventosdesegovia.com/events/x-encuentro-mujer
 es-que-transforman-el-mundo/
URL:https://www.eventosdesegovia.com/events/x-encuentro-mujeres-que-transforman-el-mundo/
END:VEVENT
END:VCALENDAR