BEGIN:VCALENDAR
VERSION:2.0
PRODID:-//eventon.com NONSGML v1.0//EN
CALSCALE:GREGORIAN
METHOD:PUBLISH
BEGIN:VEVENT
UID:69e4d2eb4ecf1
DTSTAMP:20260419T130443Z
DTSTART:20221021T170000Z
DTEND:20221027T190000Z
LOCATION:Casa de la Lectura – Biblioteca Municipal Calle Juan Bravo\,  11
SUMMARY:V Aniversario de la Casa de la Lectura (2017-2022)
DESCRIPTION:V Aniversario de la Casa de la Lectura (2017-2022) Próximo 22 
 DE OCTUBRE\,  a partir de las 11:30 horas\,  os proponemos un montón de AC
 TIVIDADES para todos los públicos.Consulta toda la programación e inscrí
 bete:921151672\,  en horario de martes a viernes de 11:00 a 14:00 y de 17:0
 0 a 20:00.Los sábados\, [..]\nhttps://www.eventosdesegovia.com/events/v-an
 iversario-de-la-casa-de-la-lectura-2017-2022/
URL:https://www.eventosdesegovia.com/events/v-aniversario-de-la-casa-de-la-lectura-2017-2022/
END:VEVENT
END:VCALENDAR