BEGIN:VCALENDAR
VERSION:2.0
PRODID:-//eventon.com NONSGML v1.0//EN
CALSCALE:GREGORIAN
METHOD:PUBLISH
BEGIN:VEVENT
UID:69e7881adb11f
DTSTAMP:20260421T142218Z
DTSTART:20221021
DTEND:20221022
LOCATION:Segovia Segovia
SUMMARY:Concierto y talleres de On The Red Box
DESCRIPTION:Concierto y talleres de On The Red Box El TOUR DE ESPAÑA tiene
  como objetivo Alcanzar España con el Evangelio. Estamos totalmente conven
 cidos\,  y así lo estamos haciendo\,  que podemos llevar el Mensaje de la 
 Cruz a cada rincón de España. En ONTHEREDBOX vamos #Aporlas52 provincias 
 de España llevando formación\, [..]\nhttps://www.eventosdesegovia.com/eve
 nts/conciertos-y-talleres-de-on-the-red-box/
URL:https://www.eventosdesegovia.com/events/conciertos-y-talleres-de-on-the-red-box/
END:VEVENT
END:VCALENDAR